BEGIN:VCALENDAR
VERSION:2.0
PRODID:icalendar-ruby
CALSCALE:GREGORIAN
METHOD:PUBLISH
BEGIN:VEVENT
DTSTAMP:20260424T080251Z
UID:335-1352553@firstchurchsaybrook.org
DTSTART:20260424T220000Z
DTEND:20260425T000000Z
CLASS:PUBLIC
CREATED:20260421T141902
DESCRIPTION:
LAST-MODIFIED:20260421T141902
LOCATION:Connector
SUMMARY:Family Fun Friday
URL;VALUE=URI:https://firstchurchsaybrook.org/events/family-fun-friday--335
 /2026-04-24
END:VEVENT
END:VCALENDAR
