BEGIN:VCALENDAR
VERSION:2.0
PRODID:icalendar-ruby
CALSCALE:GREGORIAN
METHOD:PUBLISH
BEGIN:VEVENT
DTSTAMP:20260421T112751Z
UID:334-1321591@firstchurchsaybrook.org
DTSTART:20260424T150000Z
DTEND:20260424T170000Z
CLASS:PUBLIC
CREATED:20260416T150001
DESCRIPTION:
LAST-MODIFIED:20260416T150001
LOCATION:Sanctuary\, Fireside Room
SUMMARY:Memorial Service
URL;VALUE=URI:https://firstchurchsaybrook.org/events/memorial-service--334/
 2026-04-24
END:VEVENT
END:VCALENDAR
