BEGIN:VCALENDAR
VERSION:2.0
PRODID:icalendar-ruby
CALSCALE:GREGORIAN
METHOD:PUBLISH
BEGIN:VEVENT
DTSTAMP:20260421T124202Z
UID:332-1315399@firstchurchsaybrook.org
DTSTART:20260424T200000Z
DTEND:20260424T220000Z
CLASS:PUBLIC
CREATED:20260415T134626
DESCRIPTION:
LAST-MODIFIED:20260415T134626
LOCATION:
SUMMARY:Wedding Rehearsal
URL;VALUE=URI:https://firstchurchsaybrook.org/events/wedding-rehearsal/2026
 -04-24
END:VEVENT
END:VCALENDAR
